Workbook

Sheet Program targeting
C1: Targeted to (populations) | E1: Targeted to (compartments)
A2: Abbreviation | B2: Display name | C2: Adults | E2: Susceptible | F2: Infected | G2: Recovered
A3: Risk avoidance | B3: Program to reduce number of contacts | C3: Y | E3: Y | F3: N | G3: N
A4: Harm reduction 1 | B4: Program to reduce per-act transmission | C4: Y | E4: Y | F4: N | G4: N
A5: Harm reduction 2 | B5: Program to reduce per-act transmission | C5: Y | E5: Y | F5: N | G5: N
A6: Treatment 1 | B6: Treatment program to reduce duration of infection and death rate | C6: Y | E6: N | F6: Y | G6: N
A7: Treatment 2 | B7: Treatment program to reduce duration of infection and death rate | C7: Y | E7: N | F7: Y | G7: N
A8: Clinic funding | B8: Program to fund clinics | C8: Y | E8: Y | F8: Y | G8: Y

Sheet Spending data
A1: ='Program targeting'!$A$3 -> Risk avoidance | B1: Units | C1: Uncertainty | D1: Assumption | F1: 2014 | G1: 2015 | H1: 2016 | I1: 2017 | J1: 2018
A2: Annual spend | B2: $/year | E2: OR | F2: 500000
A3: Unit cost | B3: $/person | E3: OR | F3: 5 | I3: 7
A4: Capacity constraint | B4: people/year | E4: OR
A5: Saturation | B5: N.A. | E5: OR
A6: Coverage | B6: people/year | E6: OR
A8: ='Program targeting'!$A$4 -> Harm reduction 1 | B8: Units | C8: Uncertainty | D8: Assumption | F8: 2014 | G8: 2015 | H8: 2016 | I8: 2017 | J8: 2018
A9: Annual spend | B9: $/year | E9: OR | F9: 200000
A10: Unit cost | B10: $/person | E10: OR | F10: 20
A11: Capacity constraint | B11: people/year | E11: OR | H11: 500000
A12: Saturation | B12: N.A. | E12: OR
A13: Coverage | B13: people/year | E13: OR | F13: 20
A15: ='Program targeting'!$A$5 -> Harm reduction 2 | B15: Units | C15: Uncertainty | D15: Assumption | F15: 2014 | G15: 2015 | H15: 2016 | I15: 2017 | J15: 2018
A16: Annual spend | B16: $/year | E16: OR | F16: 300000
A17: Unit cost | B17: $/person | E17: OR | F17: 25
A18: Capacity constraint | B18: people/year | D18: 500000 | E18: OR
A19: Saturation | B19: N.A. | E19: OR
A20: Coverage | B20: people/year | E20: OR
A22: ='Program targeting'!$A$6 -> Treatment 1 | B22: Units | C22: Uncertainty | D22: Assumption | F22: 2014 | G22: 2015 | H22: 2016 | I22: 2017 | J22: 2018
A23: Annual spend | B23: $/year | E23: OR | F23: 3500000
A24: Unit cost | B24: $/person | E24: OR | F24: 120
A25: Capacity constraint | B25: people/year | E25: OR | F25: 10000000
A26: Saturation | B26: N.A. | E26: OR
A27: Coverage | B27: people/year | E27: OR
A29: ='Program targeting'!$A$7 -> Treatment 2 | B29: Units | C29: Uncertainty | D29: Assumption | F29: 2014 | G29: 2015 | H29: 2016 | I29: 2017 | J29: 2018
A30: Annual spend | B30: $/year | E30: OR | F30: 1500000 | I30: 2500000
A31: Unit cost | B31: $/person | E31: OR | F31: 100 | I31: 80
A32: Capacity constraint | B32: people/year | E32: OR | F32: 5000000 | I32: 8000000
A33: Saturation | B33: N.A. | E33: OR
A34: Coverage | B34: people/year | E34: OR
A36: Clinic funding | B36: Units | C36: Uncertainty | D36: Assumption | F36: 2020
A37: Annual spend | B37: $/year | E37: OR | F37: 200000
A38: Unit cost | B38: $/person/year | E38: OR | F38: 0
A39: Capacity constraint | B39: people | E39: OR
A40: Saturation | B40: N.A. | E40: OR
A41: Coverage | B41: people | E41: OR

Sheet Program effects
A1: Transmission probability per contact | B1: Baseline value | C1: Coverage interaction | D1: Impact interaction | E1: Uncertainty | G1: ='Program targeting'!$A$3 -> Risk avoidance | H1: ='Program targeting'!$A$4 -> Harm reduction 1 | I1: ='Program targeting'!$A$5 -> Harm reduction 2 | J1: ='Program targeting'!$A$6 -> Treatment 1 | K1: ='Program targeting'!$A$7 -> Treatment 2 | L1: Clinic funding
A2: ='Program targeting'!$C$2 -> Adults | B2: 0.01 | C2: Additive | H2: 0.004 | I2: 0.003
A4: Number of contacts annually | B4: Baseline value | C4: Coverage interaction | D4: Impact interaction | E4: Uncertainty | G4: ='Program targeting'!$A$3 -> Risk avoidance | H4: ='Program targeting'!$A$4 -> Harm reduction 1 | I4: ='Program targeting'!$A$5 -> Harm reduction 2 | J4: ='Program targeting'!$A$6 -> Treatment 1 | K4: ='Program targeting'!$A$7 -> Treatment 2 | L4: Clinic funding
A5: ='Program targeting'!$C$2 -> Adults | B5: 110 | C5: Additive | G5: 15 | I5: 20
A7: Average duration of infections (years) | B7: Baseline value | C7: Coverage interaction | D7: Impact interaction | E7: Uncertainty | G7: ='Program targeting'!$A$3 -> Risk avoidance | H7: ='Program targeting'!$A$4 -> Harm reduction 1 | I7: ='Program targeting'!$A$5 -> Harm reduction 2 | J7: ='Program targeting'!$A$6 -> Treatment 1 | K7: ='Program targeting'!$A$7 -> Treatment 2 | L7: Clinic funding
A8: ='Program targeting'!$C$2 -> Adults | B8: 8 | C8: Additive | J8: 4 | K8: 4
A10: Death rate for infected people | B10: Baseline value | C10: Coverage interaction | D10: Impact interaction | E10: Uncertainty | G10: ='Program targeting'!$A$3 -> Risk avoidance | H10: ='Program targeting'!$A$4 -> Harm reduction 1 | I10: ='Program targeting'!$A$5 -> Harm reduction 2 | J10: ='Program targeting'!$A$6 -> Treatment 1 | K10: ='Program targeting'!$A$7 -> Treatment 2 | L10: Clinic funding
A11: ='Program targeting'!$C$2 -> Adults | B11: 0.02 | C11: Additive | J11: 0.015 | K11: 0.011
A13: Death rate for susceptible people | B13: Baseline value | C13: Coverage interaction | D13: Impact interaction | E13: Uncertainty | G13: ='Program targeting'!$A$3 -> Risk avoidance | H13: ='Program targeting'!$A$4 -> Harm reduction 1 | I13: ='Program targeting'!$A$5 -> Harm reduction 2 | J13: ='Program targeting'!$A$6 -> Treatment 1 | K13: ='Program targeting'!$A$7 -> Treatment 2 | L13: Clinic funding
A14: ='Program targeting'!$C$2 -> Adults | C14: Additive
A16: Clinic coverage | B16: Baseline value | C16: Coverage interaction | D16: Impact interaction | E16: Uncertainty | G16: ='Program targeting'!$A$3 -> Risk avoidance | H16: ='Program targeting'!$A$4 -> Harm reduction 1 | I16: ='Program targeting'!$A$5 -> Harm reduction 2 | J16: ='Program targeting'!$A$6 -> Treatment 1 | K16: ='Program targeting'!$A$7 -> Treatment 2 | L16: Clinic funding
A17: Adults | B17: 0 | C17: Additive | L17: 1
